BEGIN:VCALENDAR
VERSION:2.0
PRODID:-//Sportgemeinschaft Diepholz von 1870 e.V. - ECPv6.15.20//NONSGML v1.0//EN
CALSCALE:GREGORIAN
METHOD:PUBLISH
X-WR-CALNAME:Sportgemeinschaft Diepholz von 1870 e.V.
X-ORIGINAL-URL:https://sgdiepholz.de
X-WR-CALDESC:Veranstaltungen für Sportgemeinschaft Diepholz von 1870 e.V.
REFRESH-INTERVAL;VALUE=DURATION:PT1H
X-Robots-Tag:noindex
X-PUBLISHED-TTL:PT1H
BEGIN:VTIMEZONE
TZID:Europe/Paris
BEGIN:DAYLIGHT
TZOFFSETFROM:+0100
TZOFFSETTO:+0200
TZNAME:CEST
DTSTART:20250330T010000
END:DAYLIGHT
BEGIN:STANDARD
TZOFFSETFROM:+0200
TZOFFSETTO:+0100
TZNAME:CET
DTSTART:20251026T010000
END:STANDARD
BEGIN:DAYLIGHT
TZOFFSETFROM:+0100
TZOFFSETTO:+0200
TZNAME:CEST
DTSTART:20260329T010000
END:DAYLIGHT
BEGIN:STANDARD
TZOFFSETFROM:+0200
TZOFFSETTO:+0100
TZNAME:CET
DTSTART:20261025T010000
END:STANDARD
BEGIN:DAYLIGHT
TZOFFSETFROM:+0100
TZOFFSETTO:+0200
TZNAME:CEST
DTSTART:20270328T010000
END:DAYLIGHT
BEGIN:STANDARD
TZOFFSETFROM:+0200
TZOFFSETTO:+0100
TZNAME:CET
DTSTART:20271031T010000
END:STANDARD
END:VTIMEZONE
BEGIN:VEVENT
DTSTART;TZID=Europe/Paris:20260423T190000
DTEND;TZID=Europe/Paris:20260423T210000
DTSTAMP:20260421T112827
CREATED:20251223T090657Z
LAST-MODIFIED:20251223T090657Z
UID:3328-1776970800-1776978000@sgdiepholz.de
SUMMARY:Ehrung langjähriger Mitglieder
DESCRIPTION:
URL:https://sgdiepholz.de/event/ehrung-langjaehriger-mitglieder/
LOCATION:Vereinsheim\, Moorstr. 39\, Diepholz\, 49356
END:VEVENT
BEGIN:VEVENT
DTSTART;VALUE=DATE:20260425
DTEND;VALUE=DATE:20260426
DTSTAMP:20260421T112827
CREATED:20260212T175330Z
LAST-MODIFIED:20260219T165956Z
UID:3369-1777075200-1777161599@sgdiepholz.de
SUMMARY:Kids-Cup
DESCRIPTION:3. Kids Cup\nder SG Diepholz 1870 und des Grafen Schwimmteams\nam 25. April 2026\nim Hallenbad Sulingen\, Breslauer Str. 19\, 27232 Sulingen \nKindgerechter Wettkampf für die Jahrgänge 2019 und 2020\nNachwuchsschwimmfest für die Jahrgänge 2013 bis 2018 (müssen DSV-lizenziert sein!)\nMeldeschluss: Sonntag\, 19. April 2026 \nEinlass und Einschwimmen: 13:00 Uhr \nKampfrichtersitzung: 13:20 Uhr Beginn: 13:45 Uhr \nDas Meldeergebnis und das Protokoll wird an folgender Stelle zur Verfügung gestellt: https://live.sgbarnstorf.de/archiv/26/04-kids/results.php \n2026-04-25 Ausschreibung Kids-Cuppdf
URL:https://sgdiepholz.de/event/kids-cup/
LOCATION:Hallenbad Sulingen\, Breslauer Str. 19\, Sulingen\, 27232
END:VEVENT
END:VCALENDAR